BEGIN:VCALENDAR
VERSION:2.0
PRODID:-//eventon.com NONSGML v1.0//EN
CALSCALE:GREGORIAN
METHOD:PUBLISH
BEGIN:VEVENT
UID:69e737b9cef2c
DTSTAMP:20260421T083921Z
DTSTART:20260202T173000Z
DTEND:20260202T183000Z
LOCATION:Bridgeville Senior Center 414 Market St.
SUMMARY:Bingocize at Bridgeville Senior Center
DESCRIPTION:Bingocize is a health promotion program that combines the game 
 of bingo with inclusive exercises for everyone! Come play bingo\,  learn an
 d exercise. Classes will take place the first and third Monday of every mon
 th at 12:30 p.m. Contact the Bridgeville Senior Center to attend. 302-337-8
 771\nhttps://paceyourlifemwv.com/events/bingocize-at-bridgeville-senior-cen
 ter-6/var/ri-2.l-L1
URL:https://paceyourlifemwv.com/events/bingocize-at-bridgeville-senior-center-6/var/ri-2.l-L1
END:VEVENT
END:VCALENDAR