BEGIN:VCALENDAR
VERSION:2.0
PRODID:-//eventon.com NONSGML v1.0//EN
CALSCALE:GREGORIAN
METHOD:PUBLISH
BEGIN:VEVENT
UID:69e739be8d3b7
DTSTAMP:20260421T084758Z
DTSTART:20251215T173000Z
DTEND:20251215T183000Z
LOCATION:Bridgeville Senior Center 414 Market St.
SUMMARY:Bingocize at Bridgeville Senior Center
DESCRIPTION:Bingocize is a health promotion program that combines the game 
 of bingo with inclusive exercises for everyone! Come play bingo\,  learn an
 d exercise. Classes will take place the first and third Monday of every mon
 th at 12:30 p.m. Contact the Bridgeville Senior Center to attend. 302-337-8
 771\nhttps://paceyourlifemwv.com/events/bingocize-at-bridgeville-senior-cen
 ter-6/var/ri-1.l-L1
URL:https://paceyourlifemwv.com/events/bingocize-at-bridgeville-senior-center-6/var/ri-1.l-L1
END:VEVENT
END:VCALENDAR