BEGIN:VCALENDAR
VERSION:2.0
PRODID:-//eventon.com NONSGML v1.0//EN
CALSCALE:GREGORIAN
METHOD:PUBLISH
BEGIN:VEVENT
UID:69e7392b1da88
DTSTAMP:20260421T084531Z
DTSTART:20250911T150000Z
DTEND:20250911T170000Z
LOCATION:Milford Senior Center 111 Park Ave\,  Milford\,  DE 19963
SUMMARY:Milford Senior Center September Birthday Lunch
DESCRIPTION:Celebrate all of the September birthdays with us at the Milford
  Senior Center! We will be there with raffle prizes\,  giveaways and inform
 ation about the PACE Your LIFE program! Contact the Milford Senior Center t
 o attend. 302-422-3385\nhttps://paceyourlifemwv.com/events/milford-senior-c
 enter-july-birthday-lunch-2/
URL:https://paceyourlifemwv.com/events/milford-senior-center-july-birthday-lunch-2/
END:VEVENT
END:VCALENDAR