BEGIN:VCALENDAR
VERSION:2.0
PRODID:-//eventon.com NONSGML v1.0//EN
CALSCALE:GREGORIAN
METHOD:PUBLISH
BEGIN:VEVENT
UID:69e7f3e565006
DTSTAMP:20260421T220213Z
DTSTART:20241024T140000Z
DTEND:20241024T150000Z
LOCATION:Lewes Library 111 Adams Ave.\,  Lewes\,  DE 19958
SUMMARY:Empowering Your Long Term Care Journey: Understanding Medicaid
DESCRIPTION:Join us for coffee and donuts and learn about levels of care an
 d cost for adults 55 and older. Also learn some helpful tips that will incr
 ease the ability to age successfully. To register click here: https://delaw
 arelibraries.libcal.com/event/12408690\nhttps://paceyourlifemwv.com/events/
 empowering-your-long-term-care-journey-understanding-medicaid/
URL:https://paceyourlifemwv.com/events/empowering-your-long-term-care-journey-understanding-medicaid/
END:VEVENT
END:VCALENDAR