BEGIN:VCALENDAR
VERSION:2.0
PRODID:-//eventon.com NONSGML v1.0//EN
CALSCALE:GREGORIAN
METHOD:PUBLISH
BEGIN:VEVENT
UID:69e7d932b53f2
DTSTAMP:20260421T200818Z
DTSTART:20240430T140000Z
DTEND:20240430T180000Z
LOCATION:Food Bank of Delaware @ Milford Branch 102 Delaware Veterans Blvd. Milford\,  DE 19963
SUMMARY:Spring Senior Health Fair
DESCRIPTION:Spring Senior Health Fair&nbsp; Join us for a day of wellness a
 t our spring senior health fair! Explore resources promoting a healthy and 
 active lifestyle tailored for you! Community resources from organizations l
 ike Bayhealth\,  Delaware Department of Health and Social Services\,  Easte
 rseals\,  Delaware Diabetes Coalition\,  PACE Your LIFE and more!&nbsp;[..]
 \nhttps://paceyourlifemwv.com/events/spring-senior-health-fair/
URL:https://paceyourlifemwv.com/events/spring-senior-health-fair/
END:VEVENT
END:VCALENDAR