BEGIN:VCALENDAR
VERSION:2.0
PRODID:-//eventon.com NONSGML v1.0//EN
CALSCALE:GREGORIAN
METHOD:PUBLISH
BEGIN:VEVENT
UID:69e7392addc47
DTSTAMP:20260421T084530Z
DTSTART:20240411T130000Z
DTEND:20240411T190000Z
LOCATION:Bally’s Dover Casino Resort 1131 N. Dupont Hwy.\,  Dover\,  DE 19901
SUMMARY:55+ Expo Central Delaware Chamber of Commerce
DESCRIPTION:A major event on the CDCC calendar each year\,  this event prov
 ides an opportunity for businesses throughout the state of Delaware and nea
 rby states to introduce\,  market\,  and showcase their goods and services 
 to the 55+ population (the prominent and growing sector of our population) 
 and their caregivers.\nhttps://paceyourlifemwv.com/events/central-delaware-
 chamber-of-commerce/
URL:https://paceyourlifemwv.com/events/central-delaware-chamber-of-commerce/
END:VEVENT
END:VCALENDAR